BEGIN:VCALENDAR
VERSION:2.0
PRODID:-//Cambridge Office for Tourism - ECPv6.15.20//NONSGML v1.0//EN
CALSCALE:GREGORIAN
METHOD:PUBLISH
X-WR-CALNAME:Cambridge Office for Tourism
X-ORIGINAL-URL:https://cambridgeusa.org
X-WR-CALDESC:Events for Cambridge Office for Tourism
REFRESH-INTERVAL;VALUE=DURATION:PT1H
X-Robots-Tag:noindex
X-PUBLISHED-TTL:PT1H
BEGIN:VTIMEZONE
TZID:America/New_York
BEGIN:DAYLIGHT
TZOFFSETFROM:-0500
TZOFFSETTO:-0400
TZNAME:EDT
DTSTART:20250309T070000
END:DAYLIGHT
BEGIN:STANDARD
TZOFFSETFROM:-0400
TZOFFSETTO:-0500
TZNAME:EST
DTSTART:20251102T060000
END:STANDARD
BEGIN:DAYLIGHT
TZOFFSETFROM:-0500
TZOFFSETTO:-0400
TZNAME:EDT
DTSTART:20260308T070000
END:DAYLIGHT
BEGIN:STANDARD
TZOFFSETFROM:-0400
TZOFFSETTO:-0500
TZNAME:EST
DTSTART:20261101T060000
END:STANDARD
BEGIN:DAYLIGHT
TZOFFSETFROM:-0500
TZOFFSETTO:-0400
TZNAME:EDT
DTSTART:20270314T070000
END:DAYLIGHT
BEGIN:STANDARD
TZOFFSETFROM:-0400
TZOFFSETTO:-0500
TZNAME:EST
DTSTART:20271107T060000
END:STANDARD
END:VTIMEZONE
BEGIN:VEVENT
DTSTART;TZID=America/New_York:20260725T120000
DTEND;TZID=America/New_York:20260725T180000
DTSTAMP:20260420T234136
CREATED:20260205T145850Z
LAST-MODIFIED:20260205T145850Z
UID:10012319-1784980800-1785002400@cambridgeusa.org
SUMMARY:11th Annual Cambridge Jazz Festival
DESCRIPTION:Join the Cambridge Jazz Foundation from July 25–26 from 12-6pm for the 11th Annual Cambridge Jazz Festical. An impressive lineup of jazz artists\, from emerging talents to Grammy-winning musicians take the stage at the Cambridge Jazz Festival. More information to follow!
URL:https://cambridgeusa.org/event/11th-annual-cambridge-jazz-festival/2026-07-25/
CATEGORIES:Fairs & Festivals,Music,Outdoor Event
ATTACH;FMTTYPE=image/jpeg:https://cambridgeusa.org/wp-content/uploads/2025/06/Cambridge_Jazz_Festival-bbU09c.jpg
END:VEVENT
BEGIN:VEVENT
DTSTART;TZID=America/New_York:20260726T120000
DTEND;TZID=America/New_York:20260726T180000
DTSTAMP:20260420T234136
CREATED:20260205T145850Z
LAST-MODIFIED:20260205T145850Z
UID:10012320-1785067200-1785088800@cambridgeusa.org
SUMMARY:11th Annual Cambridge Jazz Festival
DESCRIPTION:Join the Cambridge Jazz Foundation from July 25–26 from 12-6pm for the 11th Annual Cambridge Jazz Festical. An impressive lineup of jazz artists\, from emerging talents to Grammy-winning musicians take the stage at the Cambridge Jazz Festival. More information to follow!
URL:https://cambridgeusa.org/event/11th-annual-cambridge-jazz-festival/2026-07-26/
CATEGORIES:Fairs & Festivals,Music,Outdoor Event
ATTACH;FMTTYPE=image/jpeg:https://cambridgeusa.org/wp-content/uploads/2025/06/Cambridge_Jazz_Festival-bbU09c.jpg
END:VEVENT
END:VCALENDAR